BEGIN:VCALENDAR
VERSION:2.0
PRODID:-//Façade Academy of the Arts - ECPv6.15.11//NONSGML v1.0//EN
CALSCALE:GREGORIAN
METHOD:PUBLISH
X-ORIGINAL-URL:https://facadeacademy.com
X-WR-CALDESC:Events for Façade Academy of the Arts
REFRESH-INTERVAL;VALUE=DURATION:PT1H
X-Robots-Tag:noindex
X-PUBLISHED-TTL:PT1H
BEGIN:VTIMEZONE
TZID:America/Toronto
BEGIN:DAYLIGHT
TZOFFSETFROM:-0500
TZOFFSETTO:-0400
TZNAME:EDT
DTSTART:20240310T070000
END:DAYLIGHT
BEGIN:STANDARD
TZOFFSETFROM:-0400
TZOFFSETTO:-0500
TZNAME:EST
DTSTART:20241103T060000
END:STANDARD
BEGIN:DAYLIGHT
TZOFFSETFROM:-0500
TZOFFSETTO:-0400
TZNAME:EDT
DTSTART:20250309T070000
END:DAYLIGHT
BEGIN:STANDARD
TZOFFSETFROM:-0400
TZOFFSETTO:-0500
TZNAME:EST
DTSTART:20251102T060000
END:STANDARD
BEGIN:DAYLIGHT
TZOFFSETFROM:-0500
TZOFFSETTO:-0400
TZNAME:EDT
DTSTART:20260308T070000
END:DAYLIGHT
BEGIN:STANDARD
TZOFFSETFROM:-0400
TZOFFSETTO:-0500
TZNAME:EST
DTSTART:20261101T060000
END:STANDARD
BEGIN:DAYLIGHT
TZOFFSETFROM:-0500
TZOFFSETTO:-0400
TZNAME:EDT
DTSTART:20270314T070000
END:DAYLIGHT
BEGIN:STANDARD
TZOFFSETFROM:-0400
TZOFFSETTO:-0500
TZNAME:EST
DTSTART:20271107T060000
END:STANDARD
END:VTIMEZONE
BEGIN:VEVENT
DTSTART;TZID=America/Toronto:20251221T080000
DTEND;TZID=America/Toronto:20260104T170000
DTSTAMP:20260419T183927
CREATED:20250905T213139Z
LAST-MODIFIED:20250905T213322Z
UID:20574-1766304000-1767546000@facadeacademy.com
SUMMARY:Façade CLOSED
DESCRIPTION:
URL:https://facadeacademy.com/event/facade-closed/
END:VEVENT
BEGIN:VEVENT
DTSTART;VALUE=DATE:20260105
DTEND;VALUE=DATE:20260106
DTSTAMP:20260419T183927
CREATED:20250905T213432Z
LAST-MODIFIED:20250905T213432Z
UID:20576-1767571200-1767657599@facadeacademy.com
SUMMARY:Winter Term -Begins
DESCRIPTION:
URL:https://facadeacademy.com/event/winter-term-begins/
END:VEVENT
BEGIN:VEVENT
DTSTART;TZID=America/Toronto:20260108T180000
DTEND;TZID=America/Toronto:20260108T200000
DTSTAMP:20260419T183927
CREATED:20251003T214910Z
LAST-MODIFIED:20251003T214910Z
UID:20609-1767895200-1767902400@facadeacademy.com
SUMMARY:Figure Drawing
DESCRIPTION:
URL:https://facadeacademy.com/event/figure-drawing-29/
END:VEVENT
BEGIN:VEVENT
DTSTART;TZID=America/Toronto:20260122T180000
DTEND;TZID=America/Toronto:20260122T200000
DTSTAMP:20260419T183927
CREATED:20251003T214935Z
LAST-MODIFIED:20251003T214935Z
UID:20611-1769104800-1769112000@facadeacademy.com
SUMMARY:Figure Drawing
DESCRIPTION:
URL:https://facadeacademy.com/event/figure-drawing-30/
END:VEVENT
BEGIN:VEVENT
DTSTART;TZID=America/Toronto:20260205T180000
DTEND;TZID=America/Toronto:20260205T200000
DTSTAMP:20260419T183927
CREATED:20251003T215039Z
LAST-MODIFIED:20251003T215039Z
UID:20613-1770314400-1770321600@facadeacademy.com
SUMMARY:Figure Drawing
DESCRIPTION:
URL:https://facadeacademy.com/event/figure-drawing-31/
END:VEVENT
BEGIN:VEVENT
DTSTART;TZID=America/Toronto:20260207T080000
DTEND;TZID=America/Toronto:20260207T170000
DTSTAMP:20260419T183927
CREATED:20251003T214355Z
LAST-MODIFIED:20251003T214355Z
UID:20599-1770451200-1770483600@facadeacademy.com
SUMMARY:Spring Term Registration Due
DESCRIPTION:
URL:https://facadeacademy.com/event/spring-term-registration-due/
END:VEVENT
BEGIN:VEVENT
DTSTART;VALUE=DATE:20260216
DTEND;VALUE=DATE:20260217
DTSTAMP:20260419T183927
CREATED:20251003T214524Z
LAST-MODIFIED:20251003T214524Z
UID:20601-1771200000-1771286399@facadeacademy.com
SUMMARY:Family Day - CLOSED
DESCRIPTION:
URL:https://facadeacademy.com/event/family-day-closed/
END:VEVENT
BEGIN:VEVENT
DTSTART;TZID=America/Toronto:20260316T080000
DTEND;TZID=America/Toronto:20260320T170000
DTSTAMP:20260419T183927
CREATED:20251003T214607Z
LAST-MODIFIED:20251003T214607Z
UID:20603-1773648000-1774026000@facadeacademy.com
SUMMARY:March Break Camp
DESCRIPTION:
URL:https://facadeacademy.com/event/march-break-camp/
END:VEVENT
BEGIN:VEVENT
DTSTART;TZID=America/Toronto:20260403T080000
DTEND;TZID=America/Toronto:20260406T170000
DTSTAMP:20260419T183927
CREATED:20251003T214654Z
LAST-MODIFIED:20251003T214654Z
UID:20605-1775203200-1775494800@facadeacademy.com
SUMMARY:Easter-CLOSED
DESCRIPTION:
URL:https://facadeacademy.com/event/easter-closed/
END:VEVENT
BEGIN:VEVENT
DTSTART;VALUE=DATE:20260406
DTEND;VALUE=DATE:20260407
DTSTAMP:20260419T183927
CREATED:20251003T214316Z
LAST-MODIFIED:20251003T214316Z
UID:20597-1775433600-1775519999@facadeacademy.com
SUMMARY:Spring Term BEGINS
DESCRIPTION:
URL:https://facadeacademy.com/event/spring-term-begins-2/
END:VEVENT
BEGIN:VEVENT
DTSTART;VALUE=DATE:20260518
DTEND;VALUE=DATE:20260519
DTSTAMP:20260419T183927
CREATED:20251003T214732Z
LAST-MODIFIED:20251003T214732Z
UID:20607-1779062400-1779148799@facadeacademy.com
SUMMARY:Victoria Day - CLOSED
DESCRIPTION:
URL:https://facadeacademy.com/event/victoria-day-closed/
END:VEVENT
END:VCALENDAR