BEGIN:VCALENDAR
VERSION:2.0
PRODID:-//Façade Academy of the Arts - ECPv6.15.11//NONSGML v1.0//EN
CALSCALE:GREGORIAN
METHOD:PUBLISH
X-WR-CALNAME:Façade Academy of the Arts
X-ORIGINAL-URL:https://facadeacademy.com
X-WR-CALDESC:Events for Façade Academy of the Arts
REFRESH-INTERVAL;VALUE=DURATION:PT1H
X-Robots-Tag:noindex
X-PUBLISHED-TTL:PT1H
BEGIN:VTIMEZONE
TZID:America/Toronto
BEGIN:DAYLIGHT
TZOFFSETFROM:-0500
TZOFFSETTO:-0400
TZNAME:EDT
DTSTART:20220313T070000
END:DAYLIGHT
BEGIN:STANDARD
TZOFFSETFROM:-0400
TZOFFSETTO:-0500
TZNAME:EST
DTSTART:20221106T060000
END:STANDARD
BEGIN:DAYLIGHT
TZOFFSETFROM:-0500
TZOFFSETTO:-0400
TZNAME:EDT
DTSTART:20230312T070000
END:DAYLIGHT
BEGIN:STANDARD
TZOFFSETFROM:-0400
TZOFFSETTO:-0500
TZNAME:EST
DTSTART:20231105T060000
END:STANDARD
BEGIN:DAYLIGHT
TZOFFSETFROM:-0500
TZOFFSETTO:-0400
TZNAME:EDT
DTSTART:20240310T070000
END:DAYLIGHT
BEGIN:STANDARD
TZOFFSETFROM:-0400
TZOFFSETTO:-0500
TZNAME:EST
DTSTART:20241103T060000
END:STANDARD
BEGIN:DAYLIGHT
TZOFFSETFROM:-0500
TZOFFSETTO:-0400
TZNAME:EDT
DTSTART:20250309T070000
END:DAYLIGHT
BEGIN:STANDARD
TZOFFSETFROM:-0400
TZOFFSETTO:-0500
TZNAME:EST
DTSTART:20251102T060000
END:STANDARD
BEGIN:DAYLIGHT
TZOFFSETFROM:-0500
TZOFFSETTO:-0400
TZNAME:EDT
DTSTART:20260308T070000
END:DAYLIGHT
BEGIN:STANDARD
TZOFFSETFROM:-0400
TZOFFSETTO:-0500
TZNAME:EST
DTSTART:20261101T060000
END:STANDARD
END:VTIMEZONE
BEGIN:VEVENT
DTSTART;TZID=America/Toronto:20250911T180000
DTEND;TZID=America/Toronto:20250911T200000
DTSTAMP:20260419T171602
CREATED:20250904T183032Z
LAST-MODIFIED:20250904T183032Z
UID:20553-1757613600-1757620800@facadeacademy.com
SUMMARY:Figure Drawing
DESCRIPTION:
URL:https://facadeacademy.com/event/figure-drawing-2/
END:VEVENT
BEGIN:VEVENT
DTSTART;VALUE=DATE:20250901
DTEND;VALUE=DATE:20250902
DTSTAMP:20260419T171602
CREATED:20250904T183153Z
LAST-MODIFIED:20250905T212920Z
UID:20555-1756684800-1756771199@facadeacademy.com
SUMMARY:Fall Term begins
DESCRIPTION:
URL:https://facadeacademy.com/event/fall-term-begins-3/
END:VEVENT
BEGIN:VEVENT
DTSTART;VALUE=DATE:20231231
DTEND;VALUE=DATE:20240109
DTSTAMP:20260419T171602
CREATED:20230215T184125Z
LAST-MODIFIED:20230215T184125Z
UID:19596-1703980800-1704758399@facadeacademy.com
SUMMARY:CLOSED
DESCRIPTION:
URL:https://facadeacademy.com/event/closed-8/
END:VEVENT
BEGIN:VEVENT
DTSTART;TZID=America/Toronto:20231226T100000
DTEND;TZID=America/Toronto:20231230T150000
DTSTAMP:20260419T171602
CREATED:20230215T184037Z
LAST-MODIFIED:20230215T184037Z
UID:19594-1703584800-1703948400@facadeacademy.com
SUMMARY:Portfolio Bootcamp
DESCRIPTION:*Holiday Hours are in effect.
URL:https://facadeacademy.com/event/portfolio-bootcamp-3/
END:VEVENT
BEGIN:VEVENT
DTSTART;VALUE=DATE:20231224
DTEND;VALUE=DATE:20231226
DTSTAMP:20260419T171602
CREATED:20230215T183922Z
LAST-MODIFIED:20230215T183922Z
UID:19592-1703376000-1703548799@facadeacademy.com
SUMMARY:CLOSED - Christmas
DESCRIPTION:
URL:https://facadeacademy.com/event/closed-christmas/
END:VEVENT
BEGIN:VEVENT
DTSTART;VALUE=DATE:20231224
DTEND;VALUE=DATE:20231225
DTSTAMP:20260419T171602
CREATED:20230215T185511Z
LAST-MODIFIED:20230215T185511Z
UID:19619-1703376000-1703462399@facadeacademy.com
SUMMARY:Fall Term ENDS
DESCRIPTION:*Please contact us to book a make-up class.
URL:https://facadeacademy.com/event/fall-term-ends-2/
END:VEVENT
BEGIN:VEVENT
DTSTART;TZID=America/Toronto:20231221T180000
DTEND;TZID=America/Toronto:20231221T200000
DTSTAMP:20260419T171602
CREATED:20230215T184350Z
LAST-MODIFIED:20230215T184350Z
UID:19604-1703181600-1703188800@facadeacademy.com
SUMMARY:Figure Drawing
DESCRIPTION:
URL:https://facadeacademy.com/event/figure-drawing-21/
END:VEVENT
BEGIN:VEVENT
DTSTART;TZID=America/Toronto:20231207T180000
DTEND;TZID=America/Toronto:20231207T200000
DTSTAMP:20260419T171602
CREATED:20230215T184325Z
LAST-MODIFIED:20230215T184325Z
UID:19602-1701972000-1701979200@facadeacademy.com
SUMMARY:Figure Drawing
DESCRIPTION:
URL:https://facadeacademy.com/event/figure-drawing-20/
END:VEVENT
BEGIN:VEVENT
DTSTART;TZID=America/Toronto:20231123T180000
DTEND;TZID=America/Toronto:20231123T200000
DTSTAMP:20260419T171602
CREATED:20230215T184304Z
LAST-MODIFIED:20230215T184304Z
UID:19600-1700762400-1700769600@facadeacademy.com
SUMMARY:Figure Drawing
DESCRIPTION:
URL:https://facadeacademy.com/event/figure-drawing-19/
END:VEVENT
BEGIN:VEVENT
DTSTART;TZID=America/Toronto:20231109T180000
DTEND;TZID=America/Toronto:20231109T200000
DTSTAMP:20260419T171602
CREATED:20230215T184240Z
LAST-MODIFIED:20230215T184240Z
UID:19598-1699552800-1699560000@facadeacademy.com
SUMMARY:Figure Drawing
DESCRIPTION:
URL:https://facadeacademy.com/event/figure-drawing-18/
END:VEVENT
BEGIN:VEVENT
DTSTART;VALUE=DATE:20231031
DTEND;VALUE=DATE:20231101
DTSTAMP:20260419T171602
CREATED:20230215T185705Z
LAST-MODIFIED:20230215T185705Z
UID:19621-1698710400-1698796799@facadeacademy.com
SUMMARY:Halloween
DESCRIPTION:*NO Evening classes. Please contact us to book a make-up class.
URL:https://facadeacademy.com/event/halloween/
END:VEVENT
BEGIN:VEVENT
DTSTART;TZID=America/Toronto:20231026T180000
DTEND;TZID=America/Toronto:20231026T200000
DTSTAMP:20260419T171602
CREATED:20230215T182418Z
LAST-MODIFIED:20230215T182418Z
UID:19549-1698343200-1698350400@facadeacademy.com
SUMMARY:Figure Drawing
DESCRIPTION:
URL:https://facadeacademy.com/event/figure-drawing-17/
END:VEVENT
BEGIN:VEVENT
DTSTART;TZID=America/Toronto:20231026T163000
DTEND;TZID=America/Toronto:20231026T180000
DTSTAMP:20260419T171602
CREATED:20230215T183242Z
LAST-MODIFIED:20230215T183242Z
UID:19578-1698337800-1698343200@facadeacademy.com
SUMMARY:Digital Masters
DESCRIPTION:
URL:https://facadeacademy.com/event/digital-masters-19/
END:VEVENT
BEGIN:VEVENT
DTSTART;VALUE=DATE:20231021
DTEND;VALUE=DATE:20231022
DTSTAMP:20260419T171602
CREATED:20230215T190231Z
LAST-MODIFIED:20230215T190231Z
UID:19625-1697846400-1697932799@facadeacademy.com
SUMMARY:Winter Term Registration DEADLINE
DESCRIPTION:
URL:https://facadeacademy.com/event/winter-term-registration-deadline/
END:VEVENT
BEGIN:VEVENT
DTSTART;TZID=America/Toronto:20231019T163000
DTEND;TZID=America/Toronto:20231019T180000
DTSTAMP:20260419T171602
CREATED:20230215T183211Z
LAST-MODIFIED:20230215T183211Z
UID:19576-1697733000-1697738400@facadeacademy.com
SUMMARY:Digital Masters
DESCRIPTION:
URL:https://facadeacademy.com/event/digital-masters-18/
END:VEVENT
BEGIN:VEVENT
DTSTART;TZID=America/Toronto:20231012T180000
DTEND;TZID=America/Toronto:20231012T203000
DTSTAMP:20260419T171602
CREATED:20230215T182357Z
LAST-MODIFIED:20230215T182357Z
UID:19547-1697133600-1697142600@facadeacademy.com
SUMMARY:Figure Drawing
DESCRIPTION:
URL:https://facadeacademy.com/event/figure-drawing-16/
END:VEVENT
BEGIN:VEVENT
DTSTART;TZID=America/Toronto:20231012T163000
DTEND;TZID=America/Toronto:20231012T180000
DTSTAMP:20260419T171602
CREATED:20230215T183320Z
LAST-MODIFIED:20230215T183320Z
UID:19580-1697128200-1697133600@facadeacademy.com
SUMMARY:Digital Masters
DESCRIPTION:
URL:https://facadeacademy.com/event/digital-masters-20/
END:VEVENT
BEGIN:VEVENT
DTSTART;VALUE=DATE:20231009
DTEND;VALUE=DATE:20231010
DTSTAMP:20260419T171602
CREATED:20230215T183842Z
LAST-MODIFIED:20230215T183842Z
UID:19590-1696809600-1696895999@facadeacademy.com
SUMMARY:CLOSED - Thanksgiving
DESCRIPTION:*Please contact us to book your make-up class.
URL:https://facadeacademy.com/event/closed-thanksgiving/
END:VEVENT
BEGIN:VEVENT
DTSTART;TZID=America/Toronto:20231005T163000
DTEND;TZID=America/Toronto:20231005T180000
DTSTAMP:20260419T171602
CREATED:20230215T183112Z
LAST-MODIFIED:20230215T183112Z
UID:19574-1696523400-1696528800@facadeacademy.com
SUMMARY:Digital Masters
DESCRIPTION:
URL:https://facadeacademy.com/event/digital-masters-17/
END:VEVENT
BEGIN:VEVENT
DTSTART;TZID=America/Toronto:20230928T180000
DTEND;TZID=America/Toronto:20230928T200000
DTSTAMP:20260419T171602
CREATED:20230215T182255Z
LAST-MODIFIED:20230215T182255Z
UID:19545-1695924000-1695931200@facadeacademy.com
SUMMARY:Figure Drawing
DESCRIPTION:
URL:https://facadeacademy.com/event/figure-drawing-15/
END:VEVENT
BEGIN:VEVENT
DTSTART;TZID=America/Toronto:20230928T163000
DTEND;TZID=America/Toronto:20230928T180000
DTSTAMP:20260419T171602
CREATED:20230215T183041Z
LAST-MODIFIED:20230215T183041Z
UID:19572-1695918600-1695924000@facadeacademy.com
SUMMARY:Digital Masters
DESCRIPTION:
URL:https://facadeacademy.com/event/digital-masters-16/
END:VEVENT
BEGIN:VEVENT
DTSTART;TZID=America/Toronto:20230914T180000
DTEND;TZID=America/Toronto:20230914T200000
DTSTAMP:20260419T171602
CREATED:20230215T182224Z
LAST-MODIFIED:20230215T182224Z
UID:19543-1694714400-1694721600@facadeacademy.com
SUMMARY:Figure Drawing
DESCRIPTION:
URL:https://facadeacademy.com/event/figure-drawing-14/
END:VEVENT
BEGIN:VEVENT
DTSTART;VALUE=DATE:20230904
DTEND;VALUE=DATE:20230905
DTSTAMP:20260419T171602
CREATED:20230215T183812Z
LAST-MODIFIED:20230215T183812Z
UID:19588-1693785600-1693871999@facadeacademy.com
SUMMARY:CLOSED - Labour Day
DESCRIPTION:*Please contact us to book your make-up class.
URL:https://facadeacademy.com/event/closed-labour-day/
END:VEVENT
BEGIN:VEVENT
DTSTART;VALUE=DATE:20230904
DTEND;VALUE=DATE:20230905
DTSTAMP:20260419T171602
CREATED:20230215T185359Z
LAST-MODIFIED:20230215T185408Z
UID:19617-1693785600-1693871999@facadeacademy.com
SUMMARY:Fall Term BEGINS
DESCRIPTION:
URL:https://facadeacademy.com/event/fall-term-begins-2/
END:VEVENT
BEGIN:VEVENT
DTSTART;VALUE=DATE:20230903
DTEND;VALUE=DATE:20230904
DTSTAMP:20260419T171602
CREATED:20230215T185330Z
LAST-MODIFIED:20230215T185330Z
UID:19615-1693699200-1693785599@facadeacademy.com
SUMMARY:Summer Term ENDS
DESCRIPTION:
URL:https://facadeacademy.com/event/summer-term-ends/
END:VEVENT
BEGIN:VEVENT
DTSTART;TZID=America/Toronto:20230831T180000
DTEND;TZID=America/Toronto:20230831T200000
DTSTAMP:20260419T171602
CREATED:20230215T182143Z
LAST-MODIFIED:20230215T182143Z
UID:19541-1693504800-1693512000@facadeacademy.com
SUMMARY:Figure Drawing
DESCRIPTION:
URL:https://facadeacademy.com/event/figure-drawing-13/
END:VEVENT
BEGIN:VEVENT
DTSTART;TZID=America/Toronto:20230817T180000
DTEND;TZID=America/Toronto:20230817T200000
DTSTAMP:20260419T171602
CREATED:20230215T182118Z
LAST-MODIFIED:20230215T182118Z
UID:19539-1692295200-1692302400@facadeacademy.com
SUMMARY:Figure Drawing
DESCRIPTION:
URL:https://facadeacademy.com/event/figure-drawing-12/
END:VEVENT
BEGIN:VEVENT
DTSTART;VALUE=DATE:20230807
DTEND;VALUE=DATE:20230814
DTSTAMP:20260419T171602
CREATED:20230215T183658Z
LAST-MODIFIED:20230215T185843Z
UID:19586-1691366400-1691971199@facadeacademy.com
SUMMARY:Trip to Walt Disney World
DESCRIPTION:*NO CLASSES or CAMP running this week. DO NOT book make-up class.
URL:https://facadeacademy.com/event/trip-to-walt-disney-world/
END:VEVENT
BEGIN:VEVENT
DTSTART;TZID=America/Toronto:20230803T163000
DTEND;TZID=America/Toronto:20230803T180000
DTSTAMP:20260419T171602
CREATED:20230215T183017Z
LAST-MODIFIED:20230215T183017Z
UID:19570-1691080200-1691085600@facadeacademy.com
SUMMARY:Digital Masters
DESCRIPTION:
URL:https://facadeacademy.com/event/digital-masters-15/
END:VEVENT
BEGIN:VEVENT
DTSTART;TZID=America/Toronto:20230727T180000
DTEND;TZID=America/Toronto:20230727T200000
DTSTAMP:20260419T171602
CREATED:20230215T182051Z
LAST-MODIFIED:20230215T182051Z
UID:19537-1690480800-1690488000@facadeacademy.com
SUMMARY:Figure Drawing
DESCRIPTION:
URL:https://facadeacademy.com/event/figure-drawing-11/
END:VEVENT
END:VCALENDAR