BEGIN:VCALENDAR
VERSION:2.0
PRODID:-//Façade Academy of the Arts - ECPv6.15.11//NONSGML v1.0//EN
CALSCALE:GREGORIAN
METHOD:PUBLISH
X-WR-CALNAME:Façade Academy of the Arts
X-ORIGINAL-URL:https://facadeacademy.com
X-WR-CALDESC:Events for Façade Academy of the Arts
REFRESH-INTERVAL;VALUE=DURATION:PT1H
X-Robots-Tag:noindex
X-PUBLISHED-TTL:PT1H
BEGIN:VTIMEZONE
TZID:America/Toronto
BEGIN:DAYLIGHT
TZOFFSETFROM:-0500
TZOFFSETTO:-0400
TZNAME:EDT
DTSTART:20220313T070000
END:DAYLIGHT
BEGIN:STANDARD
TZOFFSETFROM:-0400
TZOFFSETTO:-0500
TZNAME:EST
DTSTART:20221106T060000
END:STANDARD
BEGIN:DAYLIGHT
TZOFFSETFROM:-0500
TZOFFSETTO:-0400
TZNAME:EDT
DTSTART:20230312T070000
END:DAYLIGHT
BEGIN:STANDARD
TZOFFSETFROM:-0400
TZOFFSETTO:-0500
TZNAME:EST
DTSTART:20231105T060000
END:STANDARD
BEGIN:DAYLIGHT
TZOFFSETFROM:-0500
TZOFFSETTO:-0400
TZNAME:EDT
DTSTART:20240310T070000
END:DAYLIGHT
BEGIN:STANDARD
TZOFFSETFROM:-0400
TZOFFSETTO:-0500
TZNAME:EST
DTSTART:20241103T060000
END:STANDARD
END:VTIMEZONE
BEGIN:VEVENT
DTSTART;VALUE=DATE:20230703
DTEND;VALUE=DATE:20230704
DTSTAMP:20260419T203040
CREATED:20230215T184547Z
LAST-MODIFIED:20230215T184547Z
UID:19608-1688342400-1688428799@facadeacademy.com
SUMMARY:Summer Term BEGINS
DESCRIPTION:
URL:https://facadeacademy.com/event/summer-term-begins-2/
END:VEVENT
BEGIN:VEVENT
DTSTART;VALUE=DATE:20230701
DTEND;VALUE=DATE:20230702
DTSTAMP:20260419T203040
CREATED:20230215T184617Z
LAST-MODIFIED:20230215T184617Z
UID:19610-1688169600-1688255999@facadeacademy.com
SUMMARY:Spring Term ENDS
DESCRIPTION:
URL:https://facadeacademy.com/event/spring-term-ends/
END:VEVENT
BEGIN:VEVENT
DTSTART;VALUE=DATE:20230701
DTEND;VALUE=DATE:20230702
DTSTAMP:20260419T203040
CREATED:20230215T183505Z
LAST-MODIFIED:20230215T183505Z
UID:19584-1688169600-1688255999@facadeacademy.com
SUMMARY:CLOSED - Canada Day
DESCRIPTION:*Please contact us to book your make-up class.
URL:https://facadeacademy.com/event/closed-canada-day/
END:VEVENT
BEGIN:VEVENT
DTSTART;VALUE=DATE:20230625
DTEND;VALUE=DATE:20230626
DTSTAMP:20260419T203040
CREATED:20230215T190116Z
LAST-MODIFIED:20230215T190510Z
UID:19623-1687651200-1687737599@facadeacademy.com
SUMMARY:Fall Term Registration DEADLINE
DESCRIPTION:
URL:https://facadeacademy.com/event/fall-term-registration-deadline-2/
END:VEVENT
BEGIN:VEVENT
DTSTART;TZID=America/Toronto:20230615T180000
DTEND;TZID=America/Toronto:20230615T200000
DTSTAMP:20260419T203040
CREATED:20230215T182003Z
LAST-MODIFIED:20230215T182003Z
UID:19533-1686852000-1686859200@facadeacademy.com
SUMMARY:Figure Drawing
DESCRIPTION:
URL:https://facadeacademy.com/event/figure-drawing-9/
END:VEVENT
BEGIN:VEVENT
DTSTART;TZID=America/Toronto:20230601T180000
DTEND;TZID=America/Toronto:20230601T200000
DTSTAMP:20260419T203040
CREATED:20230215T181932Z
LAST-MODIFIED:20230215T181932Z
UID:19531-1685642400-1685649600@facadeacademy.com
SUMMARY:Figure Drawing
DESCRIPTION:
URL:https://facadeacademy.com/event/figure-drawing-8/
END:VEVENT
BEGIN:VEVENT
DTSTART;TZID=America/Toronto:20230601T163000
DTEND;TZID=America/Toronto:20230601T180000
DTSTAMP:20260419T203040
CREATED:20230215T182828Z
LAST-MODIFIED:20230215T182828Z
UID:19560-1685637000-1685642400@facadeacademy.com
SUMMARY:Digital Masters
DESCRIPTION:
URL:https://facadeacademy.com/event/digital-masters-10/
END:VEVENT
BEGIN:VEVENT
DTSTART;TZID=America/Toronto:20230525T163000
DTEND;TZID=America/Toronto:20230525T180000
DTSTAMP:20260419T203040
CREATED:20230215T182709Z
LAST-MODIFIED:20230215T182808Z
UID:19555-1685032200-1685037600@facadeacademy.com
SUMMARY:Digital Masters
DESCRIPTION:
URL:https://facadeacademy.com/event/digital-masters-8/
END:VEVENT
BEGIN:VEVENT
DTSTART;VALUE=DATE:20230522
DTEND;VALUE=DATE:20230523
DTSTAMP:20260419T203040
CREATED:20230215T183435Z
LAST-MODIFIED:20230215T183435Z
UID:19582-1684713600-1684799999@facadeacademy.com
SUMMARY:CLOSED - Victoria Day
DESCRIPTION:*Please contact us to book your make-up class.
URL:https://facadeacademy.com/event/closed-victoria-day/
END:VEVENT
BEGIN:VEVENT
DTSTART;TZID=America/Toronto:20230518T180000
DTEND;TZID=America/Toronto:20230518T200000
DTSTAMP:20260419T203040
CREATED:20230215T181905Z
LAST-MODIFIED:20230215T181905Z
UID:19529-1684432800-1684440000@facadeacademy.com
SUMMARY:Figure Drawing
DESCRIPTION:
URL:https://facadeacademy.com/event/figure-drawing-7/
END:VEVENT
BEGIN:VEVENT
DTSTART;TZID=America/Toronto:20230518T163000
DTEND;TZID=America/Toronto:20230518T180000
DTSTAMP:20260419T203040
CREATED:20230215T182731Z
LAST-MODIFIED:20230215T182731Z
UID:19557-1684427400-1684432800@facadeacademy.com
SUMMARY:Digital Masters
DESCRIPTION:
URL:https://facadeacademy.com/event/digital-masters-9/
END:VEVENT
BEGIN:VEVENT
DTSTART;TZID=America/Toronto:20230511T163000
DTEND;TZID=America/Toronto:20230511T180000
DTSTAMP:20260419T203040
CREATED:20230215T182650Z
LAST-MODIFIED:20230215T182650Z
UID:19553-1683822600-1683828000@facadeacademy.com
SUMMARY:Digital Masters
DESCRIPTION:
URL:https://facadeacademy.com/event/digital-masters-7/
END:VEVENT
BEGIN:VEVENT
DTSTART;TZID=America/Toronto:20230504T180000
DTEND;TZID=America/Toronto:20230504T200000
DTSTAMP:20260419T203040
CREATED:20230215T181837Z
LAST-MODIFIED:20230215T181837Z
UID:19527-1683223200-1683230400@facadeacademy.com
SUMMARY:Figure Drawing
DESCRIPTION:
URL:https://facadeacademy.com/event/figure-drawing-6/
END:VEVENT
BEGIN:VEVENT
DTSTART;TZID=America/Toronto:20230504T163000
DTEND;TZID=America/Toronto:20230504T180000
DTSTAMP:20260419T203040
CREATED:20230215T182623Z
LAST-MODIFIED:20230215T182623Z
UID:19551-1683217800-1683223200@facadeacademy.com
SUMMARY:Digital Masters
DESCRIPTION:
URL:https://facadeacademy.com/event/digital-masters-6/
END:VEVENT
BEGIN:VEVENT
DTSTART;VALUE=DATE:20230429
DTEND;VALUE=DATE:20230430
DTSTAMP:20260419T203040
CREATED:20230215T184446Z
LAST-MODIFIED:20230215T184446Z
UID:19606-1682726400-1682812799@facadeacademy.com
SUMMARY:Summer Term Registration DEADLINE
DESCRIPTION:
URL:https://facadeacademy.com/event/summer-term-registration-deadline/
END:VEVENT
BEGIN:VEVENT
DTSTART;TZID=America/Toronto:20230420T180000
DTEND;TZID=America/Toronto:20230420T200000
DTSTAMP:20260419T203040
CREATED:20230215T181806Z
LAST-MODIFIED:20230215T181806Z
UID:19525-1682013600-1682020800@facadeacademy.com
SUMMARY:Figure Drawing
DESCRIPTION:
URL:https://facadeacademy.com/event/figure-drawing-5/
END:VEVENT
BEGIN:VEVENT
DTSTART;VALUE=DATE:20230410
DTEND;VALUE=DATE:20230411
DTSTAMP:20260419T203040
CREATED:20230215T181158Z
LAST-MODIFIED:20230215T181205Z
UID:19508-1681084800-1681171199@facadeacademy.com
SUMMARY:CLOSED - Easter
DESCRIPTION:*Please contact us to book your make-up class
URL:https://facadeacademy.com/event/closed-easte/
END:VEVENT
BEGIN:VEVENT
DTSTART;VALUE=DATE:20230410
DTEND;VALUE=DATE:20230411
DTSTAMP:20260419T203040
CREATED:20230215T180845Z
LAST-MODIFIED:20230215T180845Z
UID:19502-1681084800-1681171199@facadeacademy.com
SUMMARY:Spring Term BEGINS
DESCRIPTION:
URL:https://facadeacademy.com/event/spring-term-begins/
END:VEVENT
BEGIN:VEVENT
DTSTART;VALUE=DATE:20230408
DTEND;VALUE=DATE:20230409
DTSTAMP:20260419T203040
CREATED:20230215T184646Z
LAST-MODIFIED:20230215T184646Z
UID:19612-1680912000-1680998399@facadeacademy.com
SUMMARY:Winter Term Ends
DESCRIPTION:
URL:https://facadeacademy.com/event/winter-term-ends/
END:VEVENT
BEGIN:VEVENT
DTSTART;VALUE=DATE:20230407
DTEND;VALUE=DATE:20230408
DTSTAMP:20260419T203040
CREATED:20230215T181119Z
LAST-MODIFIED:20230215T181119Z
UID:19506-1680825600-1680911999@facadeacademy.com
SUMMARY:CLOSED - Good Friday
DESCRIPTION:*Please contact us to book your make-up class
URL:https://facadeacademy.com/event/closed-good-friday/
END:VEVENT
BEGIN:VEVENT
DTSTART;TZID=America/Toronto:20230406T180000
DTEND;TZID=America/Toronto:20230406T200000
DTSTAMP:20260419T203040
CREATED:20230215T181741Z
LAST-MODIFIED:20230215T181741Z
UID:19523-1680804000-1680811200@facadeacademy.com
SUMMARY:Figure Drawing
DESCRIPTION:
URL:https://facadeacademy.com/event/figure-drawing-4/
END:VEVENT
BEGIN:VEVENT
DTSTART;TZID=America/Toronto:20230323T180000
DTEND;TZID=America/Toronto:20230323T200000
DTSTAMP:20260419T203040
CREATED:20230215T181712Z
LAST-MODIFIED:20230215T181712Z
UID:19521-1679594400-1679601600@facadeacademy.com
SUMMARY:Figure Drawing
DESCRIPTION:
URL:https://facadeacademy.com/event/figure-drawing-3/
END:VEVENT
BEGIN:VEVENT
DTSTART;TZID=America/Toronto:20230313T090000
DTEND;TZID=America/Toronto:20230318T150000
DTSTAMP:20260419T203040
CREATED:20230215T180605Z
LAST-MODIFIED:20230215T180605Z
UID:19496-1678698000-1679151600@facadeacademy.com
SUMMARY:March Break Art Camp
DESCRIPTION:
URL:https://facadeacademy.com/event/march-break-art-camp/
LOCATION:Faҫade Academy of the Arts\, 3570 Rutherford Rd. Unit 93 & 94\, Woodbridge\, Ontario\, L4H 2J3\, Canada
END:VEVENT
BEGIN:VEVENT
DTSTART;VALUE=DATE:20230313
DTEND;VALUE=DATE:20230320
DTSTAMP:20260419T203040
CREATED:20230215T180729Z
LAST-MODIFIED:20230215T184739Z
UID:19498-1678665600-1679270399@facadeacademy.com
SUMMARY:*NO CLASSES
DESCRIPTION:DO NOT MAKE-UP!
URL:https://facadeacademy.com/event/no-classes/
END:VEVENT
BEGIN:VEVENT
DTSTART;TZID=America/Toronto:20230302T163000
DTEND;TZID=America/Toronto:20230302T180000
DTSTAMP:20260419T203040
CREATED:20230215T181557Z
LAST-MODIFIED:20230215T181614Z
UID:19519-1677774600-1677780000@facadeacademy.com
SUMMARY:Digital Masters
DESCRIPTION:
URL:https://facadeacademy.com/event/digital-masters-5/
END:VEVENT
BEGIN:VEVENT
DTSTART;TZID=America/Toronto:20230223T180000
DTEND;TZID=America/Toronto:20230223T200000
DTSTAMP:20260419T203040
CREATED:20230215T175734Z
LAST-MODIFIED:20230215T175734Z
UID:19491-1677175200-1677182400@facadeacademy.com
SUMMARY:Figure Drawing
DESCRIPTION:
URL:https://facadeacademy.com/event/figure-drawing/
LOCATION:Faҫade Academy of the Arts\, 3570 Rutherford Rd. Unit 93 & 94\, Woodbridge\, Ontario\, L4H 2J3\, Canada
END:VEVENT
BEGIN:VEVENT
DTSTART;TZID=America/Toronto:20230223T163000
DTEND;TZID=America/Toronto:20230223T180000
DTSTAMP:20260419T203040
CREATED:20230215T181529Z
LAST-MODIFIED:20230215T181529Z
UID:19517-1677169800-1677175200@facadeacademy.com
SUMMARY:Digital Masters
DESCRIPTION:
URL:https://facadeacademy.com/event/digital-masters-4/
END:VEVENT
BEGIN:VEVENT
DTSTART;VALUE=DATE:20230220
DTEND;VALUE=DATE:20230221
DTSTAMP:20260419T203040
CREATED:20230215T180929Z
LAST-MODIFIED:20230215T180929Z
UID:19504-1676851200-1676937599@facadeacademy.com
SUMMARY:CLOSED - Family Day
DESCRIPTION:* Please contact us to book your make-up class.
URL:https://facadeacademy.com/event/closed-family-day/
END:VEVENT
BEGIN:VEVENT
DTSTART;TZID=America/Toronto:20230216T163000
DTEND;TZID=America/Toronto:20230216T180000
DTSTAMP:20260419T203040
CREATED:20230215T181504Z
LAST-MODIFIED:20230215T181504Z
UID:19515-1676565000-1676570400@facadeacademy.com
SUMMARY:Digital Masters
DESCRIPTION:
URL:https://facadeacademy.com/event/digital-masters-3/
END:VEVENT
BEGIN:VEVENT
DTSTART;VALUE=DATE:20230211
DTEND;VALUE=DATE:20230212
DTSTAMP:20260419T203040
CREATED:20230215T180819Z
LAST-MODIFIED:20230215T180819Z
UID:19500-1676073600-1676159999@facadeacademy.com
SUMMARY:Spring Term Registration Deadline
DESCRIPTION:
URL:https://facadeacademy.com/event/spring-term-registration-deadline/
END:VEVENT
END:VCALENDAR