BEGIN:VCALENDAR
VERSION:2.0
PRODID:-//Façade Academy of the Arts - ECPv6.15.11//NONSGML v1.0//EN
CALSCALE:GREGORIAN
METHOD:PUBLISH
X-WR-CALNAME:Façade Academy of the Arts
X-ORIGINAL-URL:https://facadeacademy.com
X-WR-CALDESC:Events for Façade Academy of the Arts
REFRESH-INTERVAL;VALUE=DURATION:PT1H
X-Robots-Tag:noindex
X-PUBLISHED-TTL:PT1H
BEGIN:VTIMEZONE
TZID:America/Toronto
BEGIN:DAYLIGHT
TZOFFSETFROM:-0500
TZOFFSETTO:-0400
TZNAME:EDT
DTSTART:20190310T070000
END:DAYLIGHT
BEGIN:STANDARD
TZOFFSETFROM:-0400
TZOFFSETTO:-0500
TZNAME:EST
DTSTART:20191103T060000
END:STANDARD
BEGIN:DAYLIGHT
TZOFFSETFROM:-0500
TZOFFSETTO:-0400
TZNAME:EDT
DTSTART:20200308T070000
END:DAYLIGHT
BEGIN:STANDARD
TZOFFSETFROM:-0400
TZOFFSETTO:-0500
TZNAME:EST
DTSTART:20201101T060000
END:STANDARD
BEGIN:DAYLIGHT
TZOFFSETFROM:-0500
TZOFFSETTO:-0400
TZNAME:EDT
DTSTART:20210314T070000
END:DAYLIGHT
BEGIN:STANDARD
TZOFFSETFROM:-0400
TZOFFSETTO:-0500
TZNAME:EST
DTSTART:20211107T060000
END:STANDARD
BEGIN:DAYLIGHT
TZOFFSETFROM:-0500
TZOFFSETTO:-0400
TZNAME:EDT
DTSTART:20220313T070000
END:DAYLIGHT
BEGIN:STANDARD
TZOFFSETFROM:-0400
TZOFFSETTO:-0500
TZNAME:EST
DTSTART:20221106T060000
END:STANDARD
BEGIN:DAYLIGHT
TZOFFSETFROM:-0500
TZOFFSETTO:-0400
TZNAME:EDT
DTSTART:20230312T070000
END:DAYLIGHT
BEGIN:STANDARD
TZOFFSETFROM:-0400
TZOFFSETTO:-0500
TZNAME:EST
DTSTART:20231105T060000
END:STANDARD
BEGIN:DAYLIGHT
TZOFFSETFROM:-0500
TZOFFSETTO:-0400
TZNAME:EDT
DTSTART:20240310T070000
END:DAYLIGHT
BEGIN:STANDARD
TZOFFSETFROM:-0400
TZOFFSETTO:-0500
TZNAME:EST
DTSTART:20241103T060000
END:STANDARD
END:VTIMEZONE
BEGIN:VEVENT
DTSTART;VALUE=DATE:20230220
DTEND;VALUE=DATE:20230221
DTSTAMP:20260420T015647
CREATED:20230215T180929Z
LAST-MODIFIED:20230215T180929Z
UID:19504-1676851200-1676937599@facadeacademy.com
SUMMARY:CLOSED - Family Day
DESCRIPTION:* Please contact us to book your make-up class.
URL:https://facadeacademy.com/event/closed-family-day/
END:VEVENT
BEGIN:VEVENT
DTSTART;TZID=America/Toronto:20230216T163000
DTEND;TZID=America/Toronto:20230216T180000
DTSTAMP:20260420T015647
CREATED:20230215T181504Z
LAST-MODIFIED:20230215T181504Z
UID:19515-1676565000-1676570400@facadeacademy.com
SUMMARY:Digital Masters
DESCRIPTION:
URL:https://facadeacademy.com/event/digital-masters-3/
END:VEVENT
BEGIN:VEVENT
DTSTART;VALUE=DATE:20230211
DTEND;VALUE=DATE:20230212
DTSTAMP:20260420T015647
CREATED:20230215T180819Z
LAST-MODIFIED:20230215T180819Z
UID:19500-1676073600-1676159999@facadeacademy.com
SUMMARY:Spring Term Registration Deadline
DESCRIPTION:
URL:https://facadeacademy.com/event/spring-term-registration-deadline/
END:VEVENT
BEGIN:VEVENT
DTSTART;TZID=America/Toronto:20230209T163000
DTEND;TZID=America/Toronto:20230209T180000
DTSTAMP:20260420T015647
CREATED:20230215T181445Z
LAST-MODIFIED:20230215T181445Z
UID:19513-1675960200-1675965600@facadeacademy.com
SUMMARY:Digital Masters
DESCRIPTION:
URL:https://facadeacademy.com/event/digital-masters-2/
END:VEVENT
BEGIN:VEVENT
DTSTART;TZID=America/Toronto:20230202T163000
DTEND;TZID=America/Toronto:20230202T180000
DTSTAMP:20260420T015647
CREATED:20230215T181342Z
LAST-MODIFIED:20230215T181342Z
UID:19511-1675355400-1675360800@facadeacademy.com
SUMMARY:Digital Masters
DESCRIPTION:
URL:https://facadeacademy.com/event/digital-masters/
END:VEVENT
BEGIN:VEVENT
DTSTART;VALUE=DATE:20230110
DTEND;VALUE=DATE:20230115
DTSTAMP:20260420T015647
CREATED:20221020T194451Z
LAST-MODIFIED:20221020T194617Z
UID:19268-1673308800-1673740799@facadeacademy.com
SUMMARY:Winter Term Begins
DESCRIPTION:
URL:https://facadeacademy.com/event/portfolio-bootcamp-2/
END:VEVENT
BEGIN:VEVENT
DTSTART;VALUE=DATE:20221225
DTEND;VALUE=DATE:20221231
DTSTAMP:20260420T015647
CREATED:20210827T033003Z
LAST-MODIFIED:20221020T195152Z
UID:18888-1671994800-1672426799@facadeacademy.com
SUMMARY:Portfolio Bootcamp
DESCRIPTION:
URL:https://facadeacademy.com/event/portfolio-bootcamp/
LOCATION:Faҫade Academy of the Arts\, 3570 Rutherford Rd. Unit 93 & 94\, Woodbridge\, Ontario\, L4H 2J3\, Canada
END:VEVENT
BEGIN:VEVENT
DTSTART;TZID=America/Toronto:20221224T080000
DTEND;TZID=America/Toronto:20230108T170000
DTSTAMP:20260420T015647
CREATED:20221020T194158Z
LAST-MODIFIED:20221020T194158Z
UID:19263-1671868800-1673197200@facadeacademy.com
SUMMARY:Closed
DESCRIPTION:
URL:https://facadeacademy.com/event/closed-7/
END:VEVENT
BEGIN:VEVENT
DTSTART;TZID=America/Toronto:20221224T080000
DTEND;TZID=America/Toronto:20221224T170000
DTSTAMP:20260420T015647
CREATED:20221020T194647Z
LAST-MODIFIED:20221020T194647Z
UID:19271-1671868800-1671901200@facadeacademy.com
SUMMARY:Fall Term Ends
DESCRIPTION:
URL:https://facadeacademy.com/event/fall-term-ends/
END:VEVENT
BEGIN:VEVENT
DTSTART;TZID=America/Toronto:20221029T100000
DTEND;TZID=America/Toronto:20221029T150000
DTSTAMP:20260420T015647
CREATED:20221030T194301Z
LAST-MODIFIED:20221020T194802Z
UID:19265-1667037600-1667055600@facadeacademy.com
SUMMARY:Halloween Party
DESCRIPTION:
URL:https://facadeacademy.com/event/halloween-party/
END:VEVENT
BEGIN:VEVENT
DTSTART;TZID=America/Toronto:20221029T100000
DTEND;TZID=America/Toronto:20221029T150000
DTSTAMP:20260420T015647
CREATED:20221020T194913Z
LAST-MODIFIED:20221020T194913Z
UID:19273-1667037600-1667055600@facadeacademy.com
SUMMARY:Halloween Party
DESCRIPTION:
URL:https://facadeacademy.com/event/halloween-party-2/
LOCATION:Faҫade Academy of the Arts\, 3570 Rutherford Rd. Unit 93 & 94\, Woodbridge\, Ontario\, L4H 2J3\, Canada
END:VEVENT
BEGIN:VEVENT
DTSTART;VALUE=DATE:20211231
DTEND;VALUE=DATE:20220110
DTSTAMP:20260420T015647
CREATED:20210827T033254Z
LAST-MODIFIED:20210901T161355Z
UID:18890-1640908800-1641772799@facadeacademy.com
SUMMARY:Closed
DESCRIPTION:
URL:https://facadeacademy.com/event/closed-4/
LOCATION:Faҫade Academy of the Arts\, 3570 Rutherford Rd. Unit 93 & 94\, Woodbridge\, Ontario\, L4H 2J3\, Canada
END:VEVENT
BEGIN:VEVENT
DTSTART;VALUE=DATE:20211223
DTEND;VALUE=DATE:20211226
DTSTAMP:20260420T015647
CREATED:20210827T032822Z
LAST-MODIFIED:20210827T032822Z
UID:18886-1640286000-1640458799@facadeacademy.com
SUMMARY:Closed
DESCRIPTION:
URL:https://facadeacademy.com/event/closed-3/
LOCATION:Faҫade Academy of the Arts\, 3570 Rutherford Rd. Unit 93 & 94\, Woodbridge\, Ontario\, L4H 2J3\, Canada
END:VEVENT
BEGIN:VEVENT
DTSTART;VALUE=DATE:20211010
DTEND;VALUE=DATE:20211012
DTSTAMP:20260420T015647
CREATED:20210827T032730Z
LAST-MODIFIED:20210827T032730Z
UID:18883-1633896000-1633982399@facadeacademy.com
SUMMARY:Closed
DESCRIPTION:
URL:https://facadeacademy.com/event/closed-2/
LOCATION:Faҫade Academy of the Arts\, 3570 Rutherford Rd. Unit 93 & 94\, Woodbridge\, Ontario\, L4H 2J3\, Canada
END:VEVENT
BEGIN:VEVENT
DTSTART;VALUE=DATE:20210905
DTEND;VALUE=DATE:20211226
DTSTAMP:20260420T015647
CREATED:20210827T030225Z
LAST-MODIFIED:20210827T032542Z
UID:18878-1630872000-1640458799@facadeacademy.com
SUMMARY:Fall Term Begins!
DESCRIPTION:
URL:https://facadeacademy.com/event/fall-term-begins/
LOCATION:Faҫade Academy of the Arts\, 3570 Rutherford Rd. Unit 93 & 94\, Woodbridge\, Ontario\, L4H 2J3\, Canada
END:VEVENT
BEGIN:VEVENT
DTSTART;VALUE=DATE:20210905
DTEND;VALUE=DATE:20210907
DTSTAMP:20260420T015647
CREATED:20210827T031711Z
LAST-MODIFIED:20210827T031711Z
UID:18881-1630872000-1630958399@facadeacademy.com
SUMMARY:Closed
DESCRIPTION:
URL:https://facadeacademy.com/event/closed/
LOCATION:Faҫade Academy of the Arts\, 3570 Rutherford Rd. Unit 93 & 94\, Woodbridge\, Ontario\, L4H 2J3\, Canada
END:VEVENT
BEGIN:VEVENT
DTSTART;VALUE=DATE:20210808
DTEND;VALUE=DATE:20210816
DTSTAMP:20260420T015647
CREATED:20210827T033431Z
LAST-MODIFIED:20210827T033431Z
UID:18892-1628452800-1629057599@facadeacademy.com
SUMMARY:Closed
DESCRIPTION:
URL:https://facadeacademy.com/event/closed-5/
LOCATION:Faҫade Academy of the Arts\, 3570 Rutherford Rd. Unit 93 & 94\, Woodbridge\, Ontario\, L4H 2J3\, Canada
END:VEVENT
BEGIN:VEVENT
DTSTART;VALUE=DATE:20210801
DTEND;VALUE=DATE:20210803
DTSTAMP:20260420T015647
CREATED:20210827T033527Z
LAST-MODIFIED:20210827T033527Z
UID:18894-1627848000-1627934399@facadeacademy.com
SUMMARY:Closed
DESCRIPTION:
URL:https://facadeacademy.com/event/closed-6/
LOCATION:Faҫade Academy of the Arts\, 3570 Rutherford Rd. Unit 93 & 94\, Woodbridge\, Ontario\, L4H 2J3\, Canada
END:VEVENT
BEGIN:VEVENT
DTSTART;VALUE=DATE:20210704
DTEND;VALUE=DATE:20210904
DTSTAMP:20260420T015647
CREATED:20210827T033847Z
LAST-MODIFIED:20210827T033847Z
UID:18898-1625428800-1630699199@facadeacademy.com
SUMMARY:Summer Art Camp (July 5-Sept 3)
DESCRIPTION:
URL:https://facadeacademy.com/event/summer-art-camp-july-5-sept-3/
LOCATION:Faҫade Academy of the Arts\, 3570 Rutherford Rd. Unit 93 & 94\, Woodbridge\, Ontario\, L4H 2J3\, Canada
END:VEVENT
BEGIN:VEVENT
DTSTART;VALUE=DATE:20210704
DTEND;VALUE=DATE:20210706
DTSTAMP:20260420T015647
CREATED:20210827T033648Z
LAST-MODIFIED:20210827T033648Z
UID:18896-1625428800-1625515199@facadeacademy.com
SUMMARY:Summer Term Begins
DESCRIPTION:
URL:https://facadeacademy.com/event/summer-term-begins/
LOCATION:Faҫade Academy of the Arts\, 3570 Rutherford Rd. Unit 93 & 94\, Woodbridge\, Ontario\, L4H 2J3\, Canada
END:VEVENT
BEGIN:VEVENT
DTSTART;VALUE=DATE:20210701
DTEND;VALUE=DATE:20210703
DTSTAMP:20260420T015647
CREATED:20210827T033953Z
LAST-MODIFIED:20210827T033953Z
UID:18900-1625169600-1625255999@facadeacademy.com
SUMMARY:Fall Term Registration Deadline
DESCRIPTION:
URL:https://facadeacademy.com/event/fall-term-registration-deadline/
LOCATION:Faҫade Academy of the Arts\, 3570 Rutherford Rd. Unit 93 & 94\, Woodbridge\, Ontario\, L4H 2J3\, Canada
END:VEVENT
BEGIN:VEVENT
DTSTART;VALUE=DATE:20210602
DTEND;VALUE=DATE:20210604
DTSTAMP:20260420T015647
CREATED:20210827T034125Z
LAST-MODIFIED:20210827T034125Z
UID:18902-1622664000-1622750399@facadeacademy.com
SUMMARY:Digital Masters: Portfolio Series
DESCRIPTION:
URL:https://facadeacademy.com/event/digital-masters-portfolio-series/
LOCATION:Faҫade Academy of the Arts\, 3570 Rutherford Rd. Unit 93 & 94\, Woodbridge\, Ontario\, L4H 2J3\, Canada
END:VEVENT
BEGIN:VEVENT
DTSTART;VALUE=DATE:20200205
DTEND;VALUE=DATE:20200207
DTSTAMP:20260420T015647
CREATED:20210827T190237Z
LAST-MODIFIED:20210827T193129Z
UID:18917-1580929200-1581015599@facadeacademy.com
SUMMARY:Figure Drawing Workshop
DESCRIPTION:
URL:https://facadeacademy.com/event/figure-drawing-workshop/
LOCATION:Faҫade Academy of the Arts\, 3570 Rutherford Rd. Unit 93 & 94\, Woodbridge\, Ontario\, L4H 2J3\, Canada
END:VEVENT
END:VCALENDAR