BEGIN:VCALENDAR
VERSION:2.0
PRODID:-//Façade Academy of the Arts - ECPv6.15.11//NONSGML v1.0//EN
CALSCALE:GREGORIAN
METHOD:PUBLISH
X-ORIGINAL-URL:https://facadeacademy.com
X-WR-CALDESC:Events for Façade Academy of the Arts
REFRESH-INTERVAL;VALUE=DURATION:PT1H
X-Robots-Tag:noindex
X-PUBLISHED-TTL:PT1H
BEGIN:VTIMEZONE
TZID:America/Toronto
BEGIN:DAYLIGHT
TZOFFSETFROM:-0500
TZOFFSETTO:-0400
TZNAME:EDT
DTSTART:20240310T070000
END:DAYLIGHT
BEGIN:STANDARD
TZOFFSETFROM:-0400
TZOFFSETTO:-0500
TZNAME:EST
DTSTART:20241103T060000
END:STANDARD
BEGIN:DAYLIGHT
TZOFFSETFROM:-0500
TZOFFSETTO:-0400
TZNAME:EDT
DTSTART:20250309T070000
END:DAYLIGHT
BEGIN:STANDARD
TZOFFSETFROM:-0400
TZOFFSETTO:-0500
TZNAME:EST
DTSTART:20251102T060000
END:STANDARD
BEGIN:DAYLIGHT
TZOFFSETFROM:-0500
TZOFFSETTO:-0400
TZNAME:EDT
DTSTART:20260308T070000
END:DAYLIGHT
BEGIN:STANDARD
TZOFFSETFROM:-0400
TZOFFSETTO:-0500
TZNAME:EST
DTSTART:20261101T060000
END:STANDARD
END:VTIMEZONE
BEGIN:VEVENT
DTSTART;TZID=America/Toronto:20251004T100000
DTEND;TZID=America/Toronto:20251004T120000
DTSTAMP:20260421T043150
CREATED:20250904T184316Z
LAST-MODIFIED:20250905T165109Z
UID:20559-1759572000-1759579200@facadeacademy.com
SUMMARY:Pantominds Begins
DESCRIPTION:
URL:https://facadeacademy.com/event/pantominds-begins/
END:VEVENT
BEGIN:VEVENT
DTSTART;TZID=America/Toronto:20251009T180000
DTEND;TZID=America/Toronto:20251009T200000
DTSTAMP:20260421T043150
CREATED:20250905T212421Z
LAST-MODIFIED:20250905T212421Z
UID:20561-1760032800-1760040000@facadeacademy.com
SUMMARY:Figure Drawing
DESCRIPTION:
URL:https://facadeacademy.com/event/figure-drawing-23/
END:VEVENT
BEGIN:VEVENT
DTSTART;VALUE=DATE:20251013
DTEND;VALUE=DATE:20251014
DTSTAMP:20260421T043150
CREATED:20251003T210454Z
LAST-MODIFIED:20251003T210454Z
UID:20593-1760313600-1760399999@facadeacademy.com
SUMMARY:Thanksgiving-CLOSED
DESCRIPTION:
URL:https://facadeacademy.com/event/thanksgiving-closed/
END:VEVENT
BEGIN:VEVENT
DTSTART;TZID=America/Toronto:20251023T180000
DTEND;TZID=America/Toronto:20251023T200000
DTSTAMP:20260421T043150
CREATED:20250905T212608Z
LAST-MODIFIED:20250905T212847Z
UID:20563-1761242400-1761249600@facadeacademy.com
SUMMARY:Figure Drawing
DESCRIPTION:
URL:https://facadeacademy.com/event/figure-drawing-24/
END:VEVENT
BEGIN:VEVENT
DTSTART;TZID=America/Toronto:20251027T180000
DTEND;TZID=America/Toronto:20251027T200000
DTSTAMP:20260421T043150
CREATED:20251003T210143Z
LAST-MODIFIED:20251003T210143Z
UID:20587-1761588000-1761595200@facadeacademy.com
SUMMARY:Halloween Party
DESCRIPTION:
URL:https://facadeacademy.com/event/halloween-party-3/
END:VEVENT
BEGIN:VEVENT
DTSTART;TZID=America/Toronto:20251029T180000
DTEND;TZID=America/Toronto:20251029T200000
DTSTAMP:20260421T043150
CREATED:20251003T210217Z
LAST-MODIFIED:20251003T210238Z
UID:20589-1761760800-1761768000@facadeacademy.com
SUMMARY:Halloween Party
DESCRIPTION:
URL:https://facadeacademy.com/event/halloween-party-4/
END:VEVENT
END:VCALENDAR