BEGIN:VCALENDAR
VERSION:2.0
PRODID:-//Façade Academy of the Arts - ECPv6.15.11//NONSGML v1.0//EN
CALSCALE:GREGORIAN
METHOD:PUBLISH
X-ORIGINAL-URL:https://facadeacademy.com
X-WR-CALDESC:Events for Façade Academy of the Arts
REFRESH-INTERVAL;VALUE=DURATION:PT1H
X-Robots-Tag:noindex
X-PUBLISHED-TTL:PT1H
BEGIN:VTIMEZONE
TZID:America/Toronto
BEGIN:DAYLIGHT
TZOFFSETFROM:-0500
TZOFFSETTO:-0400
TZNAME:EDT
DTSTART:20240310T070000
END:DAYLIGHT
BEGIN:STANDARD
TZOFFSETFROM:-0400
TZOFFSETTO:-0500
TZNAME:EST
DTSTART:20241103T060000
END:STANDARD
BEGIN:DAYLIGHT
TZOFFSETFROM:-0500
TZOFFSETTO:-0400
TZNAME:EDT
DTSTART:20250309T070000
END:DAYLIGHT
BEGIN:STANDARD
TZOFFSETFROM:-0400
TZOFFSETTO:-0500
TZNAME:EST
DTSTART:20251102T060000
END:STANDARD
BEGIN:DAYLIGHT
TZOFFSETFROM:-0500
TZOFFSETTO:-0400
TZNAME:EDT
DTSTART:20260308T070000
END:DAYLIGHT
BEGIN:STANDARD
TZOFFSETFROM:-0400
TZOFFSETTO:-0500
TZNAME:EST
DTSTART:20261101T060000
END:STANDARD
BEGIN:DAYLIGHT
TZOFFSETFROM:-0500
TZOFFSETTO:-0400
TZNAME:EDT
DTSTART:20270314T070000
END:DAYLIGHT
BEGIN:STANDARD
TZOFFSETFROM:-0400
TZOFFSETTO:-0500
TZNAME:EST
DTSTART:20271107T060000
END:STANDARD
END:VTIMEZONE
BEGIN:VEVENT
DTSTART;TZID=America/Toronto:20251204T180000
DTEND;TZID=America/Toronto:20251204T200000
DTSTAMP:20260419T133640
CREATED:20250905T212733Z
LAST-MODIFIED:20250905T212733Z
UID:20569-1764871200-1764878400@facadeacademy.com
SUMMARY:Figure Drawing
DESCRIPTION:
URL:https://facadeacademy.com/event/figure-drawing-27/
END:VEVENT
BEGIN:VEVENT
DTSTART;TZID=America/Toronto:20251206T140000
DTEND;TZID=America/Toronto:20251206T153000
DTSTAMP:20260419T133640
CREATED:20251003T214111Z
LAST-MODIFIED:20251003T214111Z
UID:20595-1765029600-1765035000@facadeacademy.com
SUMMARY:Artworks Ceremony
DESCRIPTION:
URL:https://facadeacademy.com/event/artworks-ceremony/
END:VEVENT
BEGIN:VEVENT
DTSTART;TZID=America/Toronto:20251218T180000
DTEND;TZID=America/Toronto:20251218T200000
DTSTAMP:20260419T133640
CREATED:20251003T210048Z
LAST-MODIFIED:20251003T210048Z
UID:20585-1766080800-1766088000@facadeacademy.com
SUMMARY:Figure Drawing
DESCRIPTION:
URL:https://facadeacademy.com/event/figure-drawing-28/
END:VEVENT
BEGIN:VEVENT
DTSTART;VALUE=DATE:20251220
DTEND;VALUE=DATE:20251221
DTSTAMP:20260419T133640
CREATED:20250905T213043Z
LAST-MODIFIED:20250905T213043Z
UID:20572-1766188800-1766275199@facadeacademy.com
SUMMARY:Last day of Fall Term
DESCRIPTION:
URL:https://facadeacademy.com/event/last-day-of-fall-term/
END:VEVENT
BEGIN:VEVENT
DTSTART;TZID=America/Toronto:20251221T080000
DTEND;TZID=America/Toronto:20260104T170000
DTSTAMP:20260419T133640
CREATED:20250905T213139Z
LAST-MODIFIED:20250905T213322Z
UID:20574-1766304000-1767546000@facadeacademy.com
SUMMARY:Façade CLOSED
DESCRIPTION:
URL:https://facadeacademy.com/event/facade-closed/
END:VEVENT
END:VCALENDAR